Package: AffyRNADegradation Version: 1.46.0 Command: /home/biocbuild/bbs-3.17-bioc/R/bin/R CMD build --keep-empty-dirs --no-resave-data AffyRNADegradation StartedAt: 2023-10-15 15:53:19 -0400 (Sun, 15 Oct 2023) EndedAt: 2023-10-15 15:54:53 -0400 (Sun, 15 Oct 2023) EllapsedTime: 94.1 seconds RetCode: 0 Status: OK PackageFile: AffyRNADegradation_1.46.0.tar.gz PackageFileSize: 273.3 KiB