Package: AffyRNADegradation Version: 1.46.0 Command: /Library/Frameworks/R.framework/Resources/bin/R CMD check --install=check:AffyRNADegradation.install-out.txt --library=/Library/Frameworks/R.framework/Resources/library --no-vignettes --timings AffyRNADegradation_1.46.0.tar.gz StartedAt: 2023-10-15 22:21:17 -0400 (Sun, 15 Oct 2023) EndedAt: 2023-10-15 22:24:26 -0400 (Sun, 15 Oct 2023) EllapsedTime: 188.9 seconds RetCode: 0 Status: OK CheckDir: AffyRNADegradation.Rcheck Warnings: 0