Package: AffyRNADegradation Version: 1.46.0 Command: /Library/Frameworks/R.framework/Resources/bin/R CMD build --keep-empty-dirs --no-resave-data AffyRNADegradation StartedAt: 2023-10-15 16:38:45 -0400 (Sun, 15 Oct 2023) EndedAt: 2023-10-15 16:41:37 -0400 (Sun, 15 Oct 2023) EllapsedTime: 171.1 seconds RetCode: 0 Status: OK PackageFile: AffyRNADegradation_1.46.0.tar.gz PackageFileSize: 365.7 KiB