Package: AffiXcan Version: 1.18.0 Command: F:\biocbuild\bbs-3.17-bioc\R\bin\R.exe CMD INSTALL AffiXcan StartedAt: 2023-10-15 16:05:57 -0400 (Sun, 15 Oct 2023) EndedAt: 2023-10-15 16:06:23 -0400 (Sun, 15 Oct 2023) EllapsedTime: 25.5 seconds RetCode: 0 Status: OK