Package: AffiXcan Version: 1.18.0 Command: /home/biocbuild/bbs-3.17-bioc/R/bin/R CMD INSTALL AffiXcan StartedAt: 2023-10-15 15:16:57 -0400 (Sun, 15 Oct 2023) EndedAt: 2023-10-15 15:17:17 -0400 (Sun, 15 Oct 2023) EllapsedTime: 19.8 seconds RetCode: 0 Status: OK