Package: AffiXcan Version: 1.18.0 Command: /home/biocbuild/bbs-3.17-bioc/R/bin/R CMD check --install=check:AffiXcan.install-out.txt --library=/home/biocbuild/bbs-3.17-bioc/R/site-library --timings AffiXcan_1.18.0.tar.gz StartedAt: 2023-10-15 19:05:11 -0400 (Sun, 15 Oct 2023) EndedAt: 2023-10-15 19:07:53 -0400 (Sun, 15 Oct 2023) EllapsedTime: 162.1 seconds RetCode: 0 Status: OK CheckDir: AffiXcan.Rcheck Warnings: 0