Package: AffiXcan Version: 1.18.0 Command: /home/biocbuild/bbs-3.17-bioc/R/bin/R CMD build --keep-empty-dirs --no-resave-data AffiXcan StartedAt: 2023-10-15 15:52:56 -0400 (Sun, 15 Oct 2023) EndedAt: 2023-10-15 15:53:33 -0400 (Sun, 15 Oct 2023) EllapsedTime: 37.2 seconds RetCode: 0 Status: OK PackageFile: AffiXcan_1.18.0.tar.gz PackageFileSize: 2.372 MiB