Package: AffiXcan Version: 1.18.0 Command: /Library/Frameworks/R.framework/Resources/bin/R CMD check --install=check:AffiXcan.install-out.txt --library=/Library/Frameworks/R.framework/Resources/library --no-vignettes --timings AffiXcan_1.18.0.tar.gz StartedAt: 2023-10-15 22:21:17 -0400 (Sun, 15 Oct 2023) EndedAt: 2023-10-15 22:27:32 -0400 (Sun, 15 Oct 2023) EllapsedTime: 375.4 seconds RetCode: 0 Status: OK CheckDir: AffiXcan.Rcheck Warnings: 0