Package: AWFisher Version: 1.14.0 Command: rm -rf AWFisher.buildbin-libdir && mkdir AWFisher.buildbin-libdir && F:\biocbuild\bbs-3.17-bioc\R\bin\R.exe CMD INSTALL --build --library=AWFisher.buildbin-libdir AWFisher_1.14.0.tar.gz StartedAt: 2023-10-16 08:26:04 -0400 (Mon, 16 Oct 2023) EndedAt: 2023-10-16 08:26:11 -0400 (Mon, 16 Oct 2023) EllapsedTime: 7.3 seconds RetCode: 0 Status: OK PackageFile: AWFisher_1.14.0.zip PackageFileSize: 1.391 MiB