Package: AWFisher Version: 1.14.0 Command: /home/biocbuild/bbs-3.17-bioc/R/bin/R CMD check --install=check:AWFisher.install-out.txt --library=/home/biocbuild/bbs-3.17-bioc/R/site-library --timings AWFisher_1.14.0.tar.gz StartedAt: 2023-10-15 19:18:10 -0400 (Sun, 15 Oct 2023) EndedAt: 2023-10-15 19:18:41 -0400 (Sun, 15 Oct 2023) EllapsedTime: 30.3 seconds RetCode: 0 Status: OK CheckDir: AWFisher.Rcheck Warnings: 0