Package: AWFisher Version: 1.14.0 Command: rm -rf AWFisher.buildbin-libdir && mkdir AWFisher.buildbin-libdir && /Users/biocbuild/BBS/utils/build-universal.sh AWFisher_1.14.0.tar.gz /Library/Frameworks/R.framework/Resources/bin/R AWFisher.buildbin-libdir StartedAt: 2023-10-16 08:58:59 -0400 (Mon, 16 Oct 2023) EndedAt: 2023-10-16 08:59:11 -0400 (Mon, 16 Oct 2023) EllapsedTime: 12.6 seconds RetCode: 0 Status: OK PackageFile: AWFisher_1.14.0.tgz PackageFileSize: 1.414 MiB