Package: AUCell Version: 1.22.0 Command: /home/biocbuild/bbs-3.17-bioc/R/bin/R CMD build --keep-empty-dirs --no-resave-data AUCell StartedAt: 2023-10-15 15:57:55 -0400 (Sun, 15 Oct 2023) EndedAt: 2023-10-15 15:59:59 -0400 (Sun, 15 Oct 2023) EllapsedTime: 123.9 seconds RetCode: 0 Status: OK PackageFile: AUCell_1.22.0.tar.gz PackageFileSize: 1.689 MiB