Package: ATACseqTFEA Version: 1.2.0 Command: F:\biocbuild\bbs-3.17-bioc\R\bin\R.exe CMD INSTALL ATACseqTFEA StartedAt: 2023-10-15 16:18:32 -0400 (Sun, 15 Oct 2023) EndedAt: 2023-10-15 16:19:23 -0400 (Sun, 15 Oct 2023) EllapsedTime: 50.9 seconds RetCode: 0 Status: OK