Package: ATACseqTFEA Version: 1.2.0 Command: rm -rf ATACseqTFEA.buildbin-libdir && mkdir ATACseqTFEA.buildbin-libdir && F:\biocbuild\bbs-3.17-bioc\R\bin\R.exe CMD INSTALL --build --library=ATACseqTFEA.buildbin-libdir ATACseqTFEA_1.2.0.tar.gz StartedAt: 2023-10-16 08:25:47 -0400 (Mon, 16 Oct 2023) EndedAt: 2023-10-16 08:26:42 -0400 (Mon, 16 Oct 2023) EllapsedTime: 54.9 seconds RetCode: 0 Status: OK PackageFile: ATACseqTFEA_1.2.0.zip PackageFileSize: 4.765 MiB