Package: ATACseqTFEA Version: 1.2.0 Command: /home/biocbuild/bbs-3.17-bioc/R/bin/R CMD check --install=check:ATACseqTFEA.install-out.txt --library=/home/biocbuild/bbs-3.17-bioc/R/site-library --timings ATACseqTFEA_1.2.0.tar.gz StartedAt: 2023-10-15 19:17:04 -0400 (Sun, 15 Oct 2023) EndedAt: 2023-10-15 19:24:31 -0400 (Sun, 15 Oct 2023) EllapsedTime: 446.7 seconds RetCode: 0 Status: OK CheckDir: ATACseqTFEA.Rcheck Warnings: 0