Package: ATACseqTFEA Version: 1.2.0 Command: rm -rf ATACseqTFEA.buildbin-libdir && mkdir ATACseqTFEA.buildbin-libdir && /Users/biocbuild/BBS/utils/build-universal.sh ATACseqTFEA_1.2.0.tar.gz /Library/Frameworks/R.framework/Resources/bin/R ATACseqTFEA.buildbin-libdir StartedAt: 2023-10-16 08:58:50 -0400 (Mon, 16 Oct 2023) EndedAt: 2023-10-16 09:01:06 -0400 (Mon, 16 Oct 2023) EllapsedTime: 135.5 seconds RetCode: 0 Status: OK PackageFile: ATACseqTFEA_1.2.0.tgz PackageFileSize: 4.861 MiB