Package: ATACseqQC Version: 1.24.0 Command: F:\biocbuild\bbs-3.17-bioc\R\bin\R.exe CMD INSTALL ATACseqQC StartedAt: 2023-10-15 17:04:27 -0400 (Sun, 15 Oct 2023) EndedAt: 2023-10-15 17:05:33 -0400 (Sun, 15 Oct 2023) EllapsedTime: 65.9 seconds RetCode: 0 Status: OK