Package: ATACseqQC Version: 1.24.0 Command: chmod a+r ATACseqQC -R && F:\biocbuild\bbs-3.17-bioc\R\bin\R.exe CMD build --keep-empty-dirs --no-resave-data ATACseqQC StartedAt: 2023-10-15 17:23:47 -0400 (Sun, 15 Oct 2023) EndedAt: 2023-10-15 17:27:18 -0400 (Sun, 15 Oct 2023) EllapsedTime: 211.0 seconds RetCode: 0 Status: OK PackageFile: ATACseqQC_1.24.0.tar.gz PackageFileSize: 13.66 MiB