Package: ATACseqQC Version: 1.24.0 Command: rm -rf ATACseqQC.buildbin-libdir && mkdir ATACseqQC.buildbin-libdir && F:\biocbuild\bbs-3.17-bioc\R\bin\R.exe CMD INSTALL --build --library=ATACseqQC.buildbin-libdir ATACseqQC_1.24.0.tar.gz StartedAt: 2023-10-16 08:25:45 -0400 (Mon, 16 Oct 2023) EndedAt: 2023-10-16 08:27:00 -0400 (Mon, 16 Oct 2023) EllapsedTime: 74.5 seconds RetCode: 0 Status: OK PackageFile: ATACseqQC_1.24.0.zip PackageFileSize: 13.09 MiB