Package: ATACseqQC Version: 1.24.0 Command: /home/biocbuild/bbs-3.17-bioc/R/bin/R CMD build --keep-empty-dirs --no-resave-data ATACseqQC StartedAt: 2023-10-15 15:57:28 -0400 (Sun, 15 Oct 2023) EndedAt: 2023-10-15 16:00:08 -0400 (Sun, 15 Oct 2023) EllapsedTime: 160.4 seconds RetCode: 0 Status: OK PackageFile: ATACseqQC_1.24.0.tar.gz PackageFileSize: 14.19 MiB