Package: ATACCoGAPS Version: 1.2.0 Command: F:\biocbuild\bbs-3.17-bioc\R\bin\R.exe CMD check --no-multiarch --install=check:ATACCoGAPS.install-out.txt --library=F:\biocbuild\bbs-3.17-bioc\R\library --no-vignettes --timings ATACCoGAPS_1.2.0.tar.gz StartedAt: 2023-10-15 23:33:05 -0400 (Sun, 15 Oct 2023) EndedAt: 2023-10-15 23:45:14 -0400 (Sun, 15 Oct 2023) EllapsedTime: 729.1 seconds RetCode: 0 Status: OK CheckDir: ATACCoGAPS.Rcheck Warnings: 0