Package: ATACCoGAPS Version: 1.2.0 Command: /home/biocbuild/bbs-3.17-bioc/R/bin/R CMD INSTALL ATACCoGAPS StartedAt: 2023-10-15 15:40:20 -0400 (Sun, 15 Oct 2023) EndedAt: 2023-10-15 15:41:12 -0400 (Sun, 15 Oct 2023) EllapsedTime: 51.9 seconds RetCode: 0 Status: OK