Package: ATACCoGAPS Version: 1.2.0 Command: /home/biocbuild/bbs-3.17-bioc/R/bin/R CMD build --keep-empty-dirs --no-resave-data ATACCoGAPS StartedAt: 2023-10-15 15:57:27 -0400 (Sun, 15 Oct 2023) EndedAt: 2023-10-15 16:00:40 -0400 (Sun, 15 Oct 2023) EllapsedTime: 192.9 seconds RetCode: 0 Status: OK PackageFile: ATACCoGAPS_1.2.0.tar.gz PackageFileSize: 2.778 MiB