Package: ASpli Version: 2.10.0 Command: F:\biocbuild\bbs-3.17-bioc\R\bin\R.exe CMD INSTALL ASpli StartedAt: 2023-10-15 16:27:40 -0400 (Sun, 15 Oct 2023) EndedAt: 2023-10-15 16:29:16 -0400 (Sun, 15 Oct 2023) EllapsedTime: 95.6 seconds RetCode: 0 Status: OK