Package: ASpli Version: 2.10.0 Command: F:\biocbuild\bbs-3.17-bioc\R\bin\R.exe CMD check --no-multiarch --install=check:ASpli.install-out.txt --library=F:\biocbuild\bbs-3.17-bioc\R\library --no-vignettes --timings ASpli_2.10.0.tar.gz StartedAt: 2023-10-15 23:31:46 -0400 (Sun, 15 Oct 2023) EndedAt: 2023-10-15 23:47:44 -0400 (Sun, 15 Oct 2023) EllapsedTime: 958.3 seconds RetCode: 0 Status: WARNINGS CheckDir: ASpli.Rcheck Warnings: 1