Package: ASpli Version: 2.10.0 Command: chmod a+r ASpli -R && F:\biocbuild\bbs-3.17-bioc\R\bin\R.exe CMD build --keep-empty-dirs --no-resave-data ASpli StartedAt: 2023-10-15 17:22:52 -0400 (Sun, 15 Oct 2023) EndedAt: 2023-10-15 17:25:33 -0400 (Sun, 15 Oct 2023) EllapsedTime: 161.3 seconds RetCode: 0 Status: OK PackageFile: ASpli_2.10.0.tar.gz PackageFileSize: 4.783 MiB