Package: ASpli Version: 2.10.0 Command: rm -rf ASpli.buildbin-libdir && mkdir ASpli.buildbin-libdir && F:\biocbuild\bbs-3.17-bioc\R\bin\R.exe CMD INSTALL --build --library=ASpli.buildbin-libdir ASpli_2.10.0.tar.gz StartedAt: 2023-10-16 08:25:35 -0400 (Mon, 16 Oct 2023) EndedAt: 2023-10-16 08:27:05 -0400 (Mon, 16 Oct 2023) EllapsedTime: 89.4 seconds RetCode: 0 Status: OK PackageFile: ASpli_2.10.0.zip PackageFileSize: 3.211 MiB