Package: ASpli Version: 2.10.0 Command: /home/biocbuild/bbs-3.17-bioc/R/bin/R CMD check --install=check:ASpli.install-out.txt --library=/home/biocbuild/bbs-3.17-bioc/R/site-library --timings ASpli_2.10.0.tar.gz StartedAt: 2023-10-15 19:15:23 -0400 (Sun, 15 Oct 2023) EndedAt: 2023-10-15 19:25:51 -0400 (Sun, 15 Oct 2023) EllapsedTime: 628.0 seconds RetCode: 1 Status: ERROR CheckDir: ASpli.Rcheck Warnings: NA