Package: ASpli Version: 2.10.0 Command: /home/biocbuild/bbs-3.17-bioc/R/bin/R CMD build --keep-empty-dirs --no-resave-data ASpli StartedAt: 2023-10-15 15:56:59 -0400 (Sun, 15 Oct 2023) EndedAt: 2023-10-15 15:59:24 -0400 (Sun, 15 Oct 2023) EllapsedTime: 145.5 seconds RetCode: 0 Status: OK PackageFile: ASpli_2.10.0.tar.gz PackageFileSize: 4.777 MiB