Package: ASpli Version: 2.10.0 Command: /Library/Frameworks/R.framework/Resources/bin/R CMD check --install=check:ASpli.install-out.txt --library=/Library/Frameworks/R.framework/Resources/library --no-vignettes --timings ASpli_2.10.0.tar.gz StartedAt: 2023-10-15 22:36:08 -0400 (Sun, 15 Oct 2023) EndedAt: 2023-10-15 23:08:40 -0400 (Sun, 15 Oct 2023) EllapsedTime: 1952.0 seconds RetCode: 0 Status: WARNINGS CheckDir: ASpli.Rcheck Warnings: 1