Package: ASpli Version: 2.10.0 Command: rm -rf ASpli.buildbin-libdir && mkdir ASpli.buildbin-libdir && /Users/biocbuild/BBS/utils/build-universal.sh ASpli_2.10.0.tar.gz /Library/Frameworks/R.framework/Resources/bin/R ASpli.buildbin-libdir StartedAt: 2023-10-16 08:58:29 -0400 (Mon, 16 Oct 2023) EndedAt: 2023-10-16 09:02:20 -0400 (Mon, 16 Oct 2023) EllapsedTime: 230.4 seconds RetCode: 0 Status: OK PackageFile: ASpli_2.10.0.tgz PackageFileSize: 3.202 MiB