Package: ASpediaFI Version: 1.14.0 Command: chmod a+r ASpediaFI -R && F:\biocbuild\bbs-3.17-bioc\R\bin\R.exe CMD build --keep-empty-dirs --no-resave-data ASpediaFI StartedAt: 2023-10-15 17:22:49 -0400 (Sun, 15 Oct 2023) EndedAt: 2023-10-15 17:22:51 -0400 (Sun, 15 Oct 2023) EllapsedTime: 2.0 seconds RetCode: 1 Status: ERROR PackageFile: None PackageFileSize: NA