Package: ASpediaFI Version: 1.14.0 Command: /Library/Frameworks/R.framework/Resources/bin/R CMD build --keep-empty-dirs --no-resave-data ASpediaFI StartedAt: 2023-10-15 16:44:31 -0400 (Sun, 15 Oct 2023) EndedAt: 2023-10-15 16:44:33 -0400 (Sun, 15 Oct 2023) EllapsedTime: 2.1 seconds RetCode: 1 Status: ERROR PackageFile: None PackageFileSize: NA