Package: ASEB Version: 1.44.0 Command: /home/biocbuild/bbs-3.17-bioc/R/bin/R CMD INSTALL ASEB StartedAt: 2023-10-15 15:06:49 -0400 (Sun, 15 Oct 2023) EndedAt: 2023-10-15 15:06:57 -0400 (Sun, 15 Oct 2023) EllapsedTime: 7.8 seconds RetCode: 0 Status: OK