Package: ASEB Version: 1.44.0 Command: /home/biocbuild/bbs-3.17-bioc/R/bin/R CMD check --install=check:ASEB.install-out.txt --library=/home/biocbuild/bbs-3.17-bioc/R/site-library --timings ASEB_1.44.0.tar.gz StartedAt: 2023-10-15 19:14:56 -0400 (Sun, 15 Oct 2023) EndedAt: 2023-10-15 19:15:23 -0400 (Sun, 15 Oct 2023) EllapsedTime: 27.0 seconds RetCode: 0 Status: WARNINGS CheckDir: ASEB.Rcheck Warnings: 1