Package: ASEB Version: 1.44.0 Command: /home/biocbuild/bbs-3.17-bioc/R/bin/R CMD build --keep-empty-dirs --no-resave-data ASEB StartedAt: 2023-10-15 15:56:45 -0400 (Sun, 15 Oct 2023) EndedAt: 2023-10-15 15:56:57 -0400 (Sun, 15 Oct 2023) EllapsedTime: 12.6 seconds RetCode: 0 Status: OK PackageFile: ASEB_1.44.0.tar.gz PackageFileSize: 477 KiB