Package: ASEB Version: 1.44.0 Command: /Library/Frameworks/R.framework/Resources/bin/R CMD INSTALL ASEB StartedAt: 2023-10-15 15:03:39 -0400 (Sun, 15 Oct 2023) EndedAt: 2023-10-15 15:04:03 -0400 (Sun, 15 Oct 2023) EllapsedTime: 23.8 seconds RetCode: 1 Status: ERROR