Package: ASEB Version: 1.43.0 Command: /Library/Frameworks/R.framework/Resources/bin/R CMD check --install=check:ASEB.install-out.txt --library=/Library/Frameworks/R.framework/Resources/library --no-vignettes --timings ASEB_1.43.0.tar.gz StartedAt: 2023-03-15 22:35:40 -0400 (Wed, 15 Mar 2023) EndedAt: 2023-03-15 22:36:33 -0400 (Wed, 15 Mar 2023) EllapsedTime: 53.4 seconds RetCode: 0 Status: WARNINGS CheckDir: ASEB.Rcheck Warnings: 2