Package: ASEB Version: 1.44.0 Command: /Library/Frameworks/R.framework/Resources/bin/R CMD build --keep-empty-dirs --no-resave-data ASEB StartedAt: 2023-10-15 16:44:26 -0400 (Sun, 15 Oct 2023) EndedAt: 2023-10-15 16:44:31 -0400 (Sun, 15 Oct 2023) EllapsedTime: 5.2 seconds RetCode: 1 Status: ERROR PackageFile: None PackageFileSize: NA