Package: ARRmNormalization Version: 1.40.0 Command: F:\biocbuild\bbs-3.17-bioc\R\bin\R.exe CMD INSTALL ARRmNormalization StartedAt: 2023-10-15 15:50:15 -0400 (Sun, 15 Oct 2023) EndedAt: 2023-10-15 15:50:25 -0400 (Sun, 15 Oct 2023) EllapsedTime: 10.3 seconds RetCode: 0 Status: OK