Package: ARRmNormalization Version: 1.40.0 Command: chmod a+r ARRmNormalization -R && F:\biocbuild\bbs-3.17-bioc\R\bin\R.exe CMD build --keep-empty-dirs --no-resave-data ARRmNormalization StartedAt: 2023-10-15 17:20:34 -0400 (Sun, 15 Oct 2023) EndedAt: 2023-10-15 17:25:09 -0400 (Sun, 15 Oct 2023) EllapsedTime: 275.3 seconds RetCode: 0 Status: OK PackageFile: ARRmNormalization_1.40.0.tar.gz PackageFileSize: 1007 KiB