Package: ARRmNormalization Version: 1.40.0 Command: /home/biocbuild/bbs-3.17-bioc/R/bin/R CMD check --install=check:ARRmNormalization.install-out.txt --library=/home/biocbuild/bbs-3.17-bioc/R/site-library --timings ARRmNormalization_1.40.0.tar.gz StartedAt: 2023-10-15 19:14:30 -0400 (Sun, 15 Oct 2023) EndedAt: 2023-10-15 19:16:40 -0400 (Sun, 15 Oct 2023) EllapsedTime: 129.6 seconds RetCode: 0 Status: OK CheckDir: ARRmNormalization.Rcheck Warnings: 0