Package: ARRmNormalization Version: 1.40.0 Command: /Library/Frameworks/R.framework/Resources/bin/R CMD check --install=check:ARRmNormalization.install-out.txt --library=/Library/Frameworks/R.framework/Resources/library --no-vignettes --timings ARRmNormalization_1.40.0.tar.gz StartedAt: 2023-10-15 22:35:13 -0400 (Sun, 15 Oct 2023) EndedAt: 2023-10-15 22:38:13 -0400 (Sun, 15 Oct 2023) EllapsedTime: 180.5 seconds RetCode: 0 Status: OK CheckDir: ARRmNormalization.Rcheck Warnings: 0