Package: ARRmNormalization Version: 1.40.0 Command: /Library/Frameworks/R.framework/Resources/bin/R CMD build --keep-empty-dirs --no-resave-data ARRmNormalization StartedAt: 2023-10-15 16:44:09 -0400 (Sun, 15 Oct 2023) EndedAt: 2023-10-15 16:45:23 -0400 (Sun, 15 Oct 2023) EllapsedTime: 74.2 seconds RetCode: 0 Status: OK PackageFile: ARRmNormalization_1.40.0.tar.gz PackageFileSize: 1.075 MiB