Package: ARRmNormalization Version: 1.40.0 Command: rm -rf ARRmNormalization.buildbin-libdir && mkdir ARRmNormalization.buildbin-libdir && /Users/biocbuild/BBS/utils/build-universal.sh ARRmNormalization_1.40.0.tar.gz /Library/Frameworks/R.framework/Resources/bin/R ARRmNormalization.buildbin-libdir StartedAt: 2023-10-16 08:58:20 -0400 (Mon, 16 Oct 2023) EndedAt: 2023-10-16 08:58:33 -0400 (Mon, 16 Oct 2023) EllapsedTime: 12.6 seconds RetCode: 0 Status: OK PackageFile: ARRmNormalization_1.40.0.tgz PackageFileSize: 1.111 MiB