Package: APL Version: 1.4.0 Command: F:\biocbuild\bbs-3.17-bioc\R\bin\R.exe CMD check --no-multiarch --install=check:APL.install-out.txt --library=F:\biocbuild\bbs-3.17-bioc\R\library --no-vignettes --timings APL_1.4.0.tar.gz StartedAt: 2023-10-15 23:29:37 -0400 (Sun, 15 Oct 2023) EndedAt: 2023-10-15 23:34:21 -0400 (Sun, 15 Oct 2023) EllapsedTime: 284.7 seconds RetCode: 0 Status: OK CheckDir: APL.Rcheck Warnings: 0