Package: APL Version: 1.4.0 Command: /Library/Frameworks/R.framework/Resources/bin/R CMD INSTALL APL StartedAt: 2023-10-15 16:10:51 -0400 (Sun, 15 Oct 2023) EndedAt: 2023-10-15 16:13:08 -0400 (Sun, 15 Oct 2023) EllapsedTime: 136.8 seconds RetCode: 0 Status: OK