Package: APL Version: 1.4.0 Command: /Library/Frameworks/R.framework/Resources/bin/R CMD build --keep-empty-dirs --no-resave-data APL StartedAt: 2023-10-15 16:43:37 -0400 (Sun, 15 Oct 2023) EndedAt: 2023-10-15 16:50:55 -0400 (Sun, 15 Oct 2023) EllapsedTime: 438.0 seconds RetCode: 0 Status: OK PackageFile: APL_1.4.0.tar.gz PackageFileSize: 2.628 MiB