Package: APAlyzer Version: 1.14.0 Command: chmod a+r APAlyzer -R && F:\biocbuild\bbs-3.17-bioc\R\bin\R.exe CMD build --keep-empty-dirs --no-resave-data APAlyzer StartedAt: 2023-10-15 17:16:34 -0400 (Sun, 15 Oct 2023) EndedAt: 2023-10-15 17:23:23 -0400 (Sun, 15 Oct 2023) EllapsedTime: 408.9 seconds RetCode: 0 Status: OK PackageFile: APAlyzer_1.14.0.tar.gz PackageFileSize: 3.501 MiB