Package: APAlyzer Version: 1.14.0 Command: rm -rf APAlyzer.buildbin-libdir && mkdir APAlyzer.buildbin-libdir && F:\biocbuild\bbs-3.17-bioc\R\bin\R.exe CMD INSTALL --build --library=APAlyzer.buildbin-libdir APAlyzer_1.14.0.tar.gz StartedAt: 2023-10-16 08:25:11 -0400 (Mon, 16 Oct 2023) EndedAt: 2023-10-16 08:26:02 -0400 (Mon, 16 Oct 2023) EllapsedTime: 50.8 seconds RetCode: 0 Status: OK PackageFile: APAlyzer_1.14.0.zip PackageFileSize: 3.582 MiB